BEGIN:VCALENDAR
VERSION:2.0
METHOD:PUBLISH
PRODID:-//Event-List//NONSGML Event-List 5.4.2//DE
X-WR-TIMEZONE:Europe/Berlin
CALSCALE:GREGORIAN
BEGIN:VTIMEZONE
TZID:Europe/Berlin
BEGIN:DAYLIGHT
TZOFFSETFROM:+0100
TZOFFSETTO:+0200
DTSTART:19810329T020000
RRULE:FREQ=YEARLY;BYMONTH=3;BYDAY=-1SU
TZNAME:CEST
END:DAYLIGHT
BEGIN:STANDARD
TZOFFSETFROM:+0200
TZOFFSETTO:+0100
DTSTART:19961027T030000
RRULE:FREQ=YEARLY;BYMONTH=10;BYDAY=-1SU
TZNAME:CET
END:STANDARD
END:VTIMEZONE
BEGIN:VEVENT
DTSTAMP:20260421T201924
DTSTART:20220827T190000
DTEND:20220827T220000
UID:864@www.nashvillecity.de/event_list_master/calendar
CLASS:PUBLIC
SUMMARY:Party-Gig bei den Rebel Eagles! ( Nur auf Einladung! )
DESCRIPTION:
CONTACT:Rebel Eagles
LOCATION:Schwentinental\, Tal der Gesetzlosen
CATEGORIES:Termine
END:VEVENT
END:VCALENDAR