BEGIN:VCALENDAR
VERSION:2.0
METHOD:PUBLISH
PRODID:-//Event-List//NONSGML Event-List 5.4.2//DE
X-WR-TIMEZONE:Europe/Berlin
CALSCALE:GREGORIAN
BEGIN:VTIMEZONE
TZID:Europe/Berlin
BEGIN:DAYLIGHT
TZOFFSETFROM:+0100
TZOFFSETTO:+0200
DTSTART:19810329T020000
RRULE:FREQ=YEARLY;BYMONTH=3;BYDAY=-1SU
TZNAME:CEST
END:DAYLIGHT
BEGIN:STANDARD
TZOFFSETFROM:+0200
TZOFFSETTO:+0100
DTSTART:19961027T030000
RRULE:FREQ=YEARLY;BYMONTH=10;BYDAY=-1SU
TZNAME:CET
END:STANDARD
END:VTIMEZONE
BEGIN:VEVENT
DTSTAMP:20260424T152729
DTSTART;VALUE=DATE:20200201
DTEND;VALUE=DATE:20200202
UID:776@www.nashvillecity.de/event_list_master/calendar
CLASS:PUBLIC
SUMMARY:Gig beim Holsten MC Germany in Langwedel ( Intern )
DESCRIPTION:Clubinterne Feier im Vereinsheim, vermutlich nicht öffentlich, daher
  hier erstmal nur verdeckt angegeben
CATEGORIES:Termine
END:VEVENT
END:VCALENDAR