BEGIN:VCALENDAR
VERSION:2.0
METHOD:PUBLISH
PRODID:-//Event-List//NONSGML Event-List 5.4.2//DE
X-WR-TIMEZONE:Europe/Berlin
CALSCALE:GREGORIAN
BEGIN:VTIMEZONE
TZID:Europe/Berlin
BEGIN:DAYLIGHT
TZOFFSETFROM:+0100
TZOFFSETTO:+0200
DTSTART:19810329T020000
RRULE:FREQ=YEARLY;BYMONTH=3;BYDAY=-1SU
TZNAME:CEST
END:DAYLIGHT
BEGIN:STANDARD
TZOFFSETFROM:+0200
TZOFFSETTO:+0100
DTSTART:19961027T030000
RRULE:FREQ=YEARLY;BYMONTH=10;BYDAY=-1SU
TZNAME:CET
END:STANDARD
END:VTIMEZONE
BEGIN:VEVENT
DTSTAMP:20260426T054114
DTSTART:20180819T113000
DTEND:20180819T143000
UID:744@www.nashvillecity.de/event_list_master/calendar
CLASS:PUBLIC
SUMMARY:Westernfest 2018 am Museumsbahnhof
DESCRIPTION:Nach einem Jahr Abstinenz in 2017 spielen wir wieder in altbewährter
  neuer Manier beim Sonntagsfrühschoppen des Westernfestes, dem ganz
  speziellen Event in der Probstei.
CONTACT:Gemeinde Schönberg
LOCATION:Schönberger Strand
CATEGORIES:Termine
END:VEVENT
END:VCALENDAR