BEGIN:VCALENDAR
VERSION:2.0
METHOD:PUBLISH
PRODID:-//Event-List//NONSGML Event-List 5.4.2//DE
X-WR-TIMEZONE:Europe/Berlin
CALSCALE:GREGORIAN
BEGIN:VTIMEZONE
TZID:Europe/Berlin
BEGIN:DAYLIGHT
TZOFFSETFROM:+0100
TZOFFSETTO:+0200
DTSTART:19810329T020000
RRULE:FREQ=YEARLY;BYMONTH=3;BYDAY=-1SU
TZNAME:CEST
END:DAYLIGHT
BEGIN:STANDARD
TZOFFSETFROM:+0200
TZOFFSETTO:+0100
DTSTART:19961027T030000
RRULE:FREQ=YEARLY;BYMONTH=10;BYDAY=-1SU
TZNAME:CET
END:STANDARD
END:VTIMEZONE
BEGIN:VEVENT
DTSTAMP:20260425T135738
DTSTART:20190511T130000
DTEND:20190511T130000
UID:736@www.nashvillecity.de/event_list_master/calendar
CLASS:PUBLIC
SUMMARY:Westerntreffen in Fitzen - 40 Jahre Nashville City!
DESCRIPTION:" Back to the Roots " im Jubiläumsjahr!  ;-)) 
LOCATION:Fitzen / Kreis Lauenburg
CATEGORIES:Termine
END:VEVENT
END:VCALENDAR