BEGIN:VCALENDAR
VERSION:2.0
METHOD:PUBLISH
PRODID:-//Event-List//NONSGML Event-List 5.4.2//DE
X-WR-TIMEZONE:Europe/Berlin
CALSCALE:GREGORIAN
BEGIN:VTIMEZONE
TZID:Europe/Berlin
BEGIN:DAYLIGHT
TZOFFSETFROM:+0100
TZOFFSETTO:+0200
DTSTART:19810329T020000
RRULE:FREQ=YEARLY;BYMONTH=3;BYDAY=-1SU
TZNAME:CEST
END:DAYLIGHT
BEGIN:STANDARD
TZOFFSETFROM:+0200
TZOFFSETTO:+0100
DTSTART:19961027T030000
RRULE:FREQ=YEARLY;BYMONTH=10;BYDAY=-1SU
TZNAME:CET
END:STANDARD
END:VTIMEZONE
BEGIN:VEVENT
DTSTAMP:20260426T054115
DTSTART:20180825T190000
DTEND:20180825T220000
UID:728@www.nashvillecity.de/event_list_master/calendar
CLASS:PUBLIC
SUMMARY:Privatfeier des Westernclubs REBEL EAGLES
DESCRIPTION:Eine kultige Feier im Kreise guter Freunde, mittlerweile bereits im 6.Jahr
  und immer wieder mit Freude erwartet. Dank des aufmerksamen Einsatzes von
  " Kopfgeldjägern " werden unerwünschte "
  Knalleffekte " glücklicherweise fortan auch
  vermieden.\nPrivatfeier, nur auf Einladung!
CATEGORIES:Termine
END:VEVENT
END:VCALENDAR